BEGIN:VCALENDAR
VERSION:2.0
PRODID:-//RADHEX - Implantes dentales - ECPv6.15.20//NONSGML v1.0//EN
CALSCALE:GREGORIAN
METHOD:PUBLISH
X-ORIGINAL-URL:https://radhex.es
X-WR-CALDESC:Eventos para RADHEX - Implantes dentales
REFRESH-INTERVAL;VALUE=DURATION:PT1H
X-Robots-Tag:noindex
X-PUBLISHED-TTL:PT1H
BEGIN:VTIMEZONE
TZID:Europe/Paris
BEGIN:DAYLIGHT
TZOFFSETFROM:+0100
TZOFFSETTO:+0200
TZNAME:CEST
DTSTART:20250330T010000
END:DAYLIGHT
BEGIN:STANDARD
TZOFFSETFROM:+0200
TZOFFSETTO:+0100
TZNAME:CET
DTSTART:20251026T010000
END:STANDARD
BEGIN:DAYLIGHT
TZOFFSETFROM:+0100
TZOFFSETTO:+0200
TZNAME:CEST
DTSTART:20260329T010000
END:DAYLIGHT
BEGIN:STANDARD
TZOFFSETFROM:+0200
TZOFFSETTO:+0100
TZNAME:CET
DTSTART:20261025T010000
END:STANDARD
BEGIN:DAYLIGHT
TZOFFSETFROM:+0100
TZOFFSETTO:+0200
TZNAME:CEST
DTSTART:20270328T010000
END:DAYLIGHT
BEGIN:STANDARD
TZOFFSETFROM:+0200
TZOFFSETTO:+0100
TZNAME:CET
DTSTART:20271031T010000
END:STANDARD
END:VTIMEZONE
BEGIN:VEVENT
DTSTART;TZID=Europe/Paris:20260530T090000
DTEND;TZID=Europe/Paris:20260530T200000
DTSTAMP:20260424T013900
CREATED:20260423T110624Z
LAST-MODIFIED:20260423T110624Z
UID:8659-1780131600-1780171200@radhex.es
SUMMARY:Implantología Avanzada\, Conservadora y Monofásica.
DESCRIPTION:Implantología Avanzada\, Conservadora y Monofásica\nJornadas SEI de Actualización \n📍 Madrid\, 30 de mayo \n👨‍⚕️ Ponentes\n• Dr. Yuri Turanza\n• Dr. Juan José Soleri\n• Dr. Jordi Artigas Beltran  \n💶 Tarifas\n• Socios: 60 €\n• No socios: 70 € \n📌 Lugar de celebración\nHotel Chamartín The One\n(Estación de Chamartín)\n28036 – Madrid \n📞 Organización e inscripciones\nSociedad Española de Implantes\nc/ Orense\, 51 · 28036 – Madrid\nTel.: 91 555 09 50\n✉️ secretariatecnicasei@sociedadsei.com\n🌐 sociedadsei.com \nRadhex Implants\nPatrocinador exclusivo de las Jornadas SEI. \n💥 Nos vemos en Madrid. Formación\, experiencia y mucha implantología de verdad. \nDescargar Programa.
URL:https://radhex.es/evento/implantologia-avanzada-conservadora-y-monofasica/
LOCATION:Hotel Chamartín The One\, C. de Agustín de Foxá\, s/n\, Chamartín\,\, MADRID\, Madrid\, 28036\, Spain
ATTACH;FMTTYPE=image/jpeg:https://radhex.es/wp-content/uploads/2026/04/programa1-c-scaled.jpg
ORGANIZER;CN="SEI":MAILTO:secretariatecnicasei@sociedadsei.com
END:VEVENT
END:VCALENDAR