BEGIN:VCALENDAR
VERSION:2.0
PRODID:-//RADHEX - Implantes dentales - ECPv6.15.20//NONSGML v1.0//EN
CALSCALE:GREGORIAN
METHOD:PUBLISH
X-ORIGINAL-URL:https://radhex.es
X-WR-CALDESC:Eventos para RADHEX - Implantes dentales
REFRESH-INTERVAL;VALUE=DURATION:PT1H
X-Robots-Tag:noindex
X-PUBLISHED-TTL:PT1H
BEGIN:VTIMEZONE
TZID:Europe/Paris
BEGIN:DAYLIGHT
TZOFFSETFROM:+0100
TZOFFSETTO:+0200
TZNAME:CEST
DTSTART:20240331T010000
END:DAYLIGHT
BEGIN:STANDARD
TZOFFSETFROM:+0200
TZOFFSETTO:+0100
TZNAME:CET
DTSTART:20241027T010000
END:STANDARD
BEGIN:DAYLIGHT
TZOFFSETFROM:+0100
TZOFFSETTO:+0200
TZNAME:CEST
DTSTART:20250330T010000
END:DAYLIGHT
BEGIN:STANDARD
TZOFFSETFROM:+0200
TZOFFSETTO:+0100
TZNAME:CET
DTSTART:20251026T010000
END:STANDARD
BEGIN:DAYLIGHT
TZOFFSETFROM:+0100
TZOFFSETTO:+0200
TZNAME:CEST
DTSTART:20260329T010000
END:DAYLIGHT
BEGIN:STANDARD
TZOFFSETFROM:+0200
TZOFFSETTO:+0100
TZNAME:CET
DTSTART:20261025T010000
END:STANDARD
END:VTIMEZONE
BEGIN:VEVENT
DTSTART;VALUE=DATE:20251010
DTEND;VALUE=DATE:20251011
DTSTAMP:20260419T192031
CREATED:20251014T134654Z
LAST-MODIFIED:20251014T134654Z
UID:8339-1760054400-1760140799@radhex.es
SUMMARY:Conferencia Implantes Monoblock SLD c -SDL cm y Taller Práctico
DESCRIPTION:CONFERENCIA –  IMPLANTES RADHEX MONOBLOQUE SLD C –  SLD CM- Y TALLER PRÁCTICO.\nMáster de  Implantología y Periodoncia Universidad Isabel I. \nCon la participación del Dr.  Juan José Soleri  y la colaboración de Radhex Implants.\nViernes 10 de octubre 2025. \nFotos del evento: \nFotos Conferencia y Taller
URL:https://radhex.es/evento/conferencia-implantes-monoblock-sld-c-sdl-cm-y-taller-practico/
LOCATION:Hotel Eurostars Madrid Tower\, Paseo de la Castellana\, 259\, MADRID\, Madrid\, 28046\, Spain
CATEGORIES:Colaboración
ATTACH;FMTTYPE=image/jpeg:https://radhex.es/wp-content/uploads/2025/10/IMG_3753-scaled.jpeg
END:VEVENT
END:VCALENDAR